BEGIN:VCALENDAR
VERSION:2.0
PRODID: -//Q4 Inc.//EN
METHOD:PUBLISH
BEGIN:VTIMEZONE
TZID:America/New_York
X-LIC-LOCATION:America/New_York
BEGIN:DAYLIGHT
TZOFFSETFROM:-0500
TZOFFSETTO:-0400
TZNAME:EDT
DTSTART:19700308T020000
RRULE:FREQ=YEARLY;BYMONTH=3;BYDAY=2SU
END:DAYLIGHT
BEGIN:STANDARD
TZOFFSETFROM:-0400
TZOFFSETTO:-0500
TZNAME:EST
DTSTART:19701101T020000
RRULE:FREQ=YEARLY;BYMONTH=11;BYDAY=1SU
END:STANDARD
END:VTIMEZONE
BEGIN:VEVENT
ORGANIZER:MAILTO:ir@thetradedesk.com
DTSTART;TZID="America/New_York":20260507T170000
DTEND;TZID="America/New_York":20260507T180000
LOCATION:
UID:81257090-6a17-491b-9631-7fffa2892b9d
DTSTAMP:20260423T091329
SUMMARY:Q1 2026 The Trade Desk Earnings Conference Call
DESCRIPTION: View More Information: https://investors.thetradedesk.com/news-and-events/events/event-details/2026/Q1-2026-The-Trade-Desk-Earnings-Conference-Call/default.aspx
URL;VALUE=URI:https://investors.thetradedesk.com/news-and-events/events/event-details/2026/Q1-2026-The-Trade-Desk-Earnings-Conference-Call/default.aspx
PRIORITY:5
CLASS:PUBLIC
END:VEVENT
END:VCALENDAR
